BEGIN:VCALENDAR
VERSION:2.0
PRODID:-//Tayside Symphony Orchestra - ECPv6.15.20//NONSGML v1.0//EN
CALSCALE:GREGORIAN
METHOD:PUBLISH
X-WR-CALNAME:Tayside Symphony Orchestra
X-ORIGINAL-URL:https://taysidesymphonyorchestra.org.uk
X-WR-CALDESC:Events for Tayside Symphony Orchestra
REFRESH-INTERVAL;VALUE=DURATION:PT1H
X-Robots-Tag:noindex
X-PUBLISHED-TTL:PT1H
BEGIN:VTIMEZONE
TZID:Europe/London
BEGIN:DAYLIGHT
TZOFFSETFROM:+0000
TZOFFSETTO:+0100
TZNAME:BST
DTSTART:20250330T010000
END:DAYLIGHT
BEGIN:STANDARD
TZOFFSETFROM:+0100
TZOFFSETTO:+0000
TZNAME:GMT
DTSTART:20251026T010000
END:STANDARD
BEGIN:DAYLIGHT
TZOFFSETFROM:+0000
TZOFFSETTO:+0100
TZNAME:BST
DTSTART:20260329T010000
END:DAYLIGHT
BEGIN:STANDARD
TZOFFSETFROM:+0100
TZOFFSETTO:+0000
TZNAME:GMT
DTSTART:20261025T010000
END:STANDARD
BEGIN:DAYLIGHT
TZOFFSETFROM:+0000
TZOFFSETTO:+0100
TZNAME:BST
DTSTART:20270328T010000
END:DAYLIGHT
BEGIN:STANDARD
TZOFFSETFROM:+0100
TZOFFSETTO:+0000
TZNAME:GMT
DTSTART:20271031T010000
END:STANDARD
END:VTIMEZONE
BEGIN:VEVENT
DTSTART;TZID=Europe/London:20260620T193000
DTEND;TZID=Europe/London:20260620T213000
DTSTAMP:20260420T032242
CREATED:20260323T115750Z
LAST-MODIFIED:20260323T120837Z
UID:1457-1781983800-1781991000@taysidesymphonyorchestra.org.uk
SUMMARY:Side by Side in Concert - TSO and AYO - June 2026
DESCRIPTION:One Stage\, Two Orchestras!\nTayside Symphony are going to be joined by the Angus Youth Orchestra at the Reid Hall in Forfar\n7:30pm\, Saturday 20th June 2026\nConductor: Richard Allan\nCome and hear the unique sound that you get when you have over 100 musicians combined on stage! \nThe programme includes \n\n\n\nSuppe\nOverture – Light Cavalry\n\n\nMussorgsky\nGopak (from The Fair at Sorochyntsi)\n\n\nLunn\nDownton Abbey Suite\n\n\nVarious (arr. Moss)\nSalute to Ol’ Blue Eyes\n\n\nZimmer\nF1 Main Theme\n\n\nWayne\nThe Eve of the War\n\n\nVarious\nGlenn Miller (In the Mood / Moonlight Serenade)\n\n\nPowell\nChicken Run (Main Title Escape Montage)\n\n\nAnderson\nOld MacDonald\n\n\nSchoenberg\nLes Misérables\n\n\nPeter\nCircus Renz\n\n\nHardiman\nLord of the Dance\n\n\nBadelt\nPirates of the Caribbean\n\n\nVarious\nDisney Festival\n\n\n\n  \n  \nTickets can be ordered from: \nPeter Clunie\, TSO Treasurer : tel: 07810 730697 or any other TSO committee member and Jarvis Brothers\, Forfar
URL:https://taysidesymphonyorchestra.org.uk/event/tso-and-ayo-june2026/
LOCATION:Reid Hall\, Forfar\, 26 Castle Street\, Forfar\, Angus\, DD8 3HX\, United Kingdom
CATEGORIES:Concert
ATTACH;FMTTYPE=image/jpeg:https://taysidesymphonyorchestra.org.uk/wp-content/uploads/2025/04/TSO-plus-schools.jpg
ORGANIZER;CN="TSO Admin":MAILTO:tsoorgs@musician.org
END:VEVENT
END:VCALENDAR