BEGIN:VCALENDAR
VERSION:2.0
PRODID:-//Tayside Symphony Orchestra - ECPv6.15.20//NONSGML v1.0//EN
CALSCALE:GREGORIAN
METHOD:PUBLISH
X-WR-CALNAME:Tayside Symphony Orchestra
X-ORIGINAL-URL:https://taysidesymphonyorchestra.org.uk
X-WR-CALDESC:Events for Tayside Symphony Orchestra
REFRESH-INTERVAL;VALUE=DURATION:PT1H
X-Robots-Tag:noindex
X-PUBLISHED-TTL:PT1H
BEGIN:VTIMEZONE
TZID:Europe/London
BEGIN:DAYLIGHT
TZOFFSETFROM:+0000
TZOFFSETTO:+0100
TZNAME:BST
DTSTART:20240331T010000
END:DAYLIGHT
BEGIN:STANDARD
TZOFFSETFROM:+0100
TZOFFSETTO:+0000
TZNAME:GMT
DTSTART:20241027T010000
END:STANDARD
BEGIN:DAYLIGHT
TZOFFSETFROM:+0000
TZOFFSETTO:+0100
TZNAME:BST
DTSTART:20250330T010000
END:DAYLIGHT
BEGIN:STANDARD
TZOFFSETFROM:+0100
TZOFFSETTO:+0000
TZNAME:GMT
DTSTART:20251026T010000
END:STANDARD
BEGIN:DAYLIGHT
TZOFFSETFROM:+0000
TZOFFSETTO:+0100
TZNAME:BST
DTSTART:20260329T010000
END:DAYLIGHT
BEGIN:STANDARD
TZOFFSETFROM:+0100
TZOFFSETTO:+0000
TZNAME:GMT
DTSTART:20261025T010000
END:STANDARD
BEGIN:DAYLIGHT
TZOFFSETFROM:+0000
TZOFFSETTO:+0100
TZNAME:BST
DTSTART:20270328T010000
END:DAYLIGHT
BEGIN:STANDARD
TZOFFSETFROM:+0100
TZOFFSETTO:+0000
TZNAME:GMT
DTSTART:20271031T010000
END:STANDARD
END:VTIMEZONE
BEGIN:VTIMEZONE
TZID:UTC
BEGIN:STANDARD
TZOFFSETFROM:+0000
TZOFFSETTO:+0000
TZNAME:UTC
DTSTART:20230101T000000
END:STANDARD
END:VTIMEZONE
BEGIN:VEVENT
DTSTART;TZID=Europe/London:20260207T193000
DTEND;TZID=Europe/London:20260207T213000
DTSTAMP:20260420T050840
CREATED:20251028T175619Z
LAST-MODIFIED:20251028T182222Z
UID:1435-1770492600-1770499800@taysidesymphonyorchestra.org.uk
SUMMARY:A Night of West End Music - February 2026
DESCRIPTION:TSO presents: A Night of West End Music\nAt the Reid Hall Forfar\n7:30pm\, Saturday 7th February 2026\nConductor: Richard Allan\n\nThe programme includes \n\nLoesser – Guys and Dolls\nLloyd Webber – Evita\nLoewe – Paint your wagon\nRodgers – The King and I\nSchoenberg – Miss Saigon\nWilliams – Harry Potter Symphonic Suite\nColeman – Barnum\nSchwartz – Wicked\nLoewe – My Fair Lady\n\nTickets £14\, concessions £12. Accompanied children under 16 free \n  \nTickets can be ordered from: \nPeter Clunie\, TSO Treasurer : tel: 07810 730697 or any other TSO committee member and Jarvis Brothers\, Forfar
URL:https://taysidesymphonyorchestra.org.uk/event/a-night-of-west-end-music-february-2026/
LOCATION:Reid Hall\, Forfar\, 26 Castle Street\, Forfar\, Angus\, DD8 3HX\, United Kingdom
CATEGORIES:Concert
ATTACH;FMTTYPE=image/jpeg:https://taysidesymphonyorchestra.org.uk/wp-content/uploads/2025/10/west-end-musical-night.jpeg
ORGANIZER;CN="TSO Admin":MAILTO:tsoorgs@musician.org
END:VEVENT
BEGIN:VEVENT
DTSTART;TZID=UTC:20251213T193000
DTEND;TZID=UTC:20251213T213000
DTSTAMP:20260420T050840
CREATED:20250417T181751Z
LAST-MODIFIED:20251028T183719Z
UID:1205-1765654200-1765661400@taysidesymphonyorchestra.org.uk
SUMMARY:TSO - Christmas Concert 2025
DESCRIPTION:Tayside Symphony & the Friends Choir\nChristmas Concert\nEast & Old Parish Church\, Forfar\n7:30pm\, Saturday 13th December 2025\nConductor: Richard Allan\nLeader: Charlotte Howson\nA wide variety of Christmas Music plus Christmas Carols for everyone to join in with \n\n\n\nColeridge Taylor\nA Christmas Overture\n\n\nDavis\nCarol of the Drum\n\n\nTrad\nThe First Nowell\n\n\nDelius\nSleigh Ride\n\n\nAdam\nO Holy Night\n\n\nRichard Eilenberg\nPetersburger Schlittenfahrt\n\n\nTrad\nDing Dong Merrily on High\n\n\nSilvestri\nThe Polar Express\n\n\nSalerno\nSing of a Merry\n\n\nVarious\nA Most Wonderful Christmas\n\n\nWilliams\nSomewhere In My Memory\n\n\nTrad\nGod Rest You Merry Gentlemen\n\n\nKowalewski\nLulajze Jezuniu\n\n\nHerbert\nMarch of the Toys\n\n\nTrad\nThe Twelve Days of Christmas\n\n\nAnderson\nSleigh Ride\n\n\nHeatlie\nMerry Christmas Everyone\n\n\nTrad\nO Come All Ye Faithful\n\n\nPierpoint\nJingle Bells\n\n\n\n  \nAll tickets £10
URL:https://taysidesymphonyorchestra.org.uk/event/tso-christmas-concert-2025/
LOCATION:East and Old Parish Church\, 38-40 E High St\, Forfar\, Angus\, DD8 2EG\, United Kingdom
CATEGORIES:Concert
ATTACH;FMTTYPE=image/jpeg:https://taysidesymphonyorchestra.org.uk/wp-content/uploads/2025/04/christmas-concert.jpg
ORGANIZER;CN="TSO Admin":MAILTO:tsoorgs@musician.org
END:VEVENT
BEGIN:VEVENT
DTSTART;TZID=UTC:20250927T193000
DTEND;TZID=UTC:20250927T213000
DTSTAMP:20260420T050840
CREATED:20250417T181510Z
LAST-MODIFIED:20250717T172425Z
UID:1202-1759001400-1759008600@taysidesymphonyorchestra.org.uk
SUMMARY:'Delightful Dvorak' - September 2025
DESCRIPTION:Tayside Symphony Orchestra at the Reid Hall Forfar\n7:30pm\, Saturday 27th September 2025\nConductor: Richard Allan\nLeader: Angela Green\n  \n‘Delightful Dvorak’ programme includes ‘Humoresque’\, ‘Prague Waltzes’ and Symphony No 5. \nTickets are £14 (£12 concession) \n 
URL:https://taysidesymphonyorchestra.org.uk/event/tso-september-2025/
LOCATION:Reid Hall\, Forfar\, 26 Castle Street\, Forfar\, Angus\, DD8 3HX\, United Kingdom
CATEGORIES:Concert
ATTACH;FMTTYPE=image/jpeg:https://taysidesymphonyorchestra.org.uk/wp-content/uploads/2025/04/Autumn-concert.jpg
ORGANIZER;CN="TSO Admin":MAILTO:tsoorgs@musician.org
END:VEVENT
BEGIN:VEVENT
DTSTART;TZID=UTC:20250621T193000
DTEND;TZID=UTC:20250621T213000
DTSTAMP:20260420T050840
CREATED:20250416T203717Z
LAST-MODIFIED:20250614T175955Z
UID:1169-1750534200-1750541400@taysidesymphonyorchestra.org.uk
SUMMARY:An evening with Friends - June 2025
DESCRIPTION:Tayside Symphony with Friends’ Chorus\n7:30pm\, Saturday 21st June 2025\nConductor: Richard Allan\nLeader: Angela Green\n  \n  \nThe Friends’ Chorus will be joining TSO for our summer concert \nOrchestra programme: \n\nOklahoma selection\nSimon and Garfunkel Medley\nRhapsody in Blue\nJesus Christ Superstar\nThe John Dunbar Theme (from Dance with the Wolves)\nLife on Mars\n\nOrchestra and Choir : \n\nHallelujah\nNow We are Free\nI Vow To Thee My Country\nYou’ll Never Walk Alone\nClimb Every Mountain\nRun\nGoodbye Yellow Brick Road\nSomebody to Love\nYou Can’t Stop The Beat\nViva La Vida\nWaterloo Road\n\nTickets £14\, concessions £12. Accompanied children under 16 free \nJune 2025 Poster pdf \nTickets can be ordered from: \nPeter Clunie\, TSO Treasurer : tel: 07810 730697 or any other TSO committee member and Jarvis Brothers\, Forfar
URL:https://taysidesymphonyorchestra.org.uk/event/tso-and-friends-june-2025/
LOCATION:Reid Hall\, Forfar\, 26 Castle Street\, Forfar\, Angus\, DD8 3HX\, United Kingdom
CATEGORIES:Concert
ATTACH;FMTTYPE=image/png:https://taysidesymphonyorchestra.org.uk/wp-content/uploads/2025/04/AI-TSO-Jun25-edit.png
ORGANIZER;CN="TSO Admin":MAILTO:tsoorgs@musician.org
END:VEVENT
BEGIN:VEVENT
DTSTART;TZID=Europe/London:20250208T193000
DTEND;TZID=Europe/London:20250208T213000
DTSTAMP:20260420T050840
CREATED:20250416T202309Z
LAST-MODIFIED:20250417T192030Z
UID:1162-1739043000-1739050200@taysidesymphonyorchestra.org.uk
SUMMARY:Happy Music - February 2025
DESCRIPTION:Tayside Symphony presents Happy Music at the Reid Hall Forfar\n7:30pm\, Saturday 8th February 2025\nConductor: Richard Allan\nLeader: Christine Mollison\nThe programme includes \n\nJoplin – The Entertainer\nAlford – Colonel Bogey March\nRodgers – Carousel Waltz\nLennon/McCartney – Best of the Beatles\nWilson – 76 Trombones\n\nTickets £14\, concessions £12. Accompanied children under 16 free \n  \nTickets can be ordered from: \nPeter Clunie\, TSO Treasurer : tel: 07810 730697 or any other TSO committee member and Jarvis Brothers\, Forfar
URL:https://taysidesymphonyorchestra.org.uk/event/happy-music-february-2025/
LOCATION:Reid Hall\, Forfar\, 26 Castle Street\, Forfar\, Angus\, DD8 3HX\, United Kingdom
CATEGORIES:Concert
ATTACH;FMTTYPE=image/jpeg:https://taysidesymphonyorchestra.org.uk/wp-content/uploads/2025/04/previous-cover-slider-edit-1.jpg
ORGANIZER;CN="TSO Admin":MAILTO:tsoorgs@musician.org
END:VEVENT
BEGIN:VEVENT
DTSTART;TZID=UTC:20240622T193000
DTEND;TZID=UTC:20240622T213000
DTSTAMP:20260420T050840
CREATED:20250417T184438Z
LAST-MODIFIED:20250417T185236Z
UID:1209-1719084600-1719091800@taysidesymphonyorchestra.org.uk
SUMMARY:The Light Programme - June 2024
DESCRIPTION:Tayside Symphony Orchestra at the Reid Hall Forfar\n7:30pm\, Saturday 22nd June 2024\nConductor: Richard Allan\nLeader: Angela Green\nProgramme includes \nSullivan: Gondoliers Overture \n  \nTickets £14\, concessions £12. Accompanied children under 16 free \nTickets can be ordered from: \nPeter Clunie\, TSO Treasurer : tel: 07810 730697 or any other TSO committee member and Jarvis Brothers\, Forfar
URL:https://taysidesymphonyorchestra.org.uk/event/the-light-programme-june-2024/
LOCATION:Reid Hall\, Forfar\, 26 Castle Street\, Forfar\, Angus\, DD8 3HX\, United Kingdom
CATEGORIES:Concert
ATTACH;FMTTYPE=image/jpeg:https://taysidesymphonyorchestra.org.uk/wp-content/uploads/2025/04/TSO_June24.jpg
ORGANIZER;CN="TSO Admin":MAILTO:tsoorgs@musician.org
END:VEVENT
END:VCALENDAR